BEGIN:VCALENDAR
VERSION:2.0
PRODID:-//Gabi Fink - ECPv6.15.18//NONSGML v1.0//EN
CALSCALE:GREGORIAN
METHOD:PUBLISH
X-WR-CALNAME:Gabi Fink
X-ORIGINAL-URL:https://www.finkin.at
X-WR-CALDESC:Veranstaltungen für Gabi Fink
REFRESH-INTERVAL;VALUE=DURATION:PT1H
X-Robots-Tag:noindex
X-PUBLISHED-TTL:PT1H
BEGIN:VTIMEZONE
TZID:Europe/Vienna
BEGIN:DAYLIGHT
TZOFFSETFROM:+0100
TZOFFSETTO:+0200
TZNAME:CEST
DTSTART:20250330T010000
END:DAYLIGHT
BEGIN:STANDARD
TZOFFSETFROM:+0200
TZOFFSETTO:+0100
TZNAME:CET
DTSTART:20251026T010000
END:STANDARD
BEGIN:DAYLIGHT
TZOFFSETFROM:+0100
TZOFFSETTO:+0200
TZNAME:CEST
DTSTART:20260329T010000
END:DAYLIGHT
BEGIN:STANDARD
TZOFFSETFROM:+0200
TZOFFSETTO:+0100
TZNAME:CET
DTSTART:20261025T010000
END:STANDARD
BEGIN:DAYLIGHT
TZOFFSETFROM:+0100
TZOFFSETTO:+0200
TZNAME:CEST
DTSTART:20270328T010000
END:DAYLIGHT
BEGIN:STANDARD
TZOFFSETFROM:+0200
TZOFFSETTO:+0100
TZNAME:CET
DTSTART:20271031T010000
END:STANDARD
END:VTIMEZONE
BEGIN:VEVENT
DTSTART;TZID=Europe/Vienna:20260427T080000
DTEND;TZID=Europe/Vienna:20261002T170000
DTSTAMP:20260423T105324
CREATED:20260324T114626Z
LAST-MODIFIED:20260324T114730Z
UID:1569-1777276800-1790960400@www.finkin.at
SUMMARY:Nada Yoga- Heilklang Ausbildung
DESCRIPTION:KLANG – MEDITATION –  SELBSTERFAHRUNGIch freue mich Teil des Ausbildungsteams zu seinDiese Nada Yoga & Heilklang Ausbildung eröffnet einen tiefen Zugang zur Arbeit mit Klang und Körper\, Stimme und Bewusstsein. Der Lehrgang verbindet Meditation\, Yoga und Klangheilung/Klangtherapie mit Methoden der Stimmbildung und des musikalischen Ausdrucks zu einem umfassenden Ausbildungsweg. Im Zentrum steht der Klang als schöpferische und heilsame Kraft – ein ganzheitlicher Weg der Selbsterfahrung und der Begleitung anderer Menschen.im Schloss Goldegg im Pongaualles Infos: https://sawitri-yoga.org/nada-yoga-heilklang-ausbildung/
URL:https://www.finkin.at/veranstaltungen/nada-yoga-heilklang-ausbildung/
ATTACH;FMTTYPE=image/jpeg:https://www.finkin.at/wp24/wp-content/uploads/2026/03/nada_yoga_ausbildung_goldegg.jpg
END:VEVENT
BEGIN:VEVENT
DTSTART;TZID=Europe/Vienna:20260517T093000
DTEND;TZID=Europe/Vienna:20260517T130000
DTSTAMP:20260423T105324
CREATED:20260103T193615Z
LAST-MODIFIED:20260103T195419Z
UID:1547-1779010200-1779022800@www.finkin.at
SUMMARY:Frauentempel/ Sinnlichkeit
DESCRIPTION:Ein freudvoller\, feuriger Tanz in den Mai- der Zeit\, in der die Natur an Fruchtbarkeit und Liebesenergie kaum zu überbieten ist. Die Vereinigung von männlicher & weiblicher Energie steht am Höhepunkt. Wir öffnen uns mit sensitive Yoga\, Tanz & Breathwork für die Sinnlichkeit. Bereiten uns mit venusischen Gewürzen und Zutaten eine köstliche kleine Liebesgabe zu. \n\n\n\nEs gibt 13 PlätzeAnmeldung bis 7. Mai
URL:https://www.finkin.at/veranstaltungen/frauentempel-sinnlichkeit/
ATTACH;FMTTYPE=image/jpeg:https://www.finkin.at/wp24/wp-content/uploads/2025/01/2.jpg
END:VEVENT
BEGIN:VEVENT
DTSTART;TZID=Europe/Vienna:20260605T190000
DTEND;TZID=Europe/Vienna:20260605T220000
DTSTAMP:20260423T105324
CREATED:20260404T125259Z
LAST-MODIFIED:20260404T180500Z
UID:1592-1780686000-1780696800@www.finkin.at
SUMMARY:Filmabend & Mantrasingen
DESCRIPTION:Communityabend zur Eröffnung des Yogasommers.Wir zeigen den Film „Mantra- Sounds into Silence“. Trailer: https://www.youtube.com/watch?v=oEeLsyB5czganschließend gemeinsames Mantrasingen- Mitsingen oder Genießen. Unser Singen begleiten wir mit indischem Harmonium\, Gitarre und Ukulele. Chai\, Aurvedische LimonadenUnkostenbeitrag 5\,-Melde dich über folgenden Link anhttps://yogahaus-mit-ananda.thrivecart.com/kinoabend–mantrasingen/
URL:https://www.finkin.at/veranstaltungen/kinoabend-mantrasingen/
ATTACH;FMTTYPE=image/jpeg:https://www.finkin.at/wp24/wp-content/uploads/2026/04/Design-ohne-Titel-7.jpg
END:VEVENT
BEGIN:VEVENT
DTSTART;TZID=Europe/Vienna:20260606T090000
DTEND;TZID=Europe/Vienna:20260606T120000
DTSTAMP:20260423T105324
CREATED:20260404T141943Z
LAST-MODIFIED:20260404T182217Z
UID:1600-1780736400-1780747200@www.finkin.at
SUMMARY:Atemworkshop für Beginner:innen-  Pranayama meets Kinesiologie & Klang
DESCRIPTION:Für dich\, wenn du:* erste Erfahrungen mit Atemübungen machen möchtest* du mehr Energie brauchst* du dein Nervensystem zur Ruhe bringen möchtest* dich besser fokussieren möchtest* tief entspannen möchtest* eine Atem-Übungspraxis etablieren möchtest* wenn du für dich passende individuelle Atemübungen ausgetestet haben möchtestWir werden gemeinsam Atemübungen praktizieren\, eine kinesiologische Gruppenbalance machen\, um deiner Intention noch mehr Raum zu geben. Weiters erfährst du die Wirkungen der Atemübungen auf dein ganzes Wesen und ihre Einsatzmöglichkeiten im Alltag.Keine Voraussetzungen nötig. Come as you are!45\,-Melde dich gleich HIER an.
URL:https://www.finkin.at/veranstaltungen/atemworkshop-fuer-beginnerinnen-kinesiologie-meets-pranayama/
ATTACH;FMTTYPE=image/jpeg:https://www.finkin.at/wp24/wp-content/uploads/2026/01/Pranayama.jpg
END:VEVENT
BEGIN:VEVENT
DTSTART;TZID=Europe/Vienna:20260607T080000
DTEND;TZID=Europe/Vienna:20260607T113000
DTSTAMP:20260423T105324
CREATED:20260102T204236Z
LAST-MODIFIED:20260404T181204Z
UID:1513-1780819200-1780831800@www.finkin.at
SUMMARY:Pranayama intensiv meets Kinesiologie & Klang
DESCRIPTION:Pranayama- das bewusste Lenken von Prana/ Lebensenergie über den AtemEin intensiver Atem-Workshop eingebettet in eine kinesiologische Gruppenbalance\, um deiner Intention noch mehr Raum zu geben. Mit abschließender Meditation & Klang.Dieser Workshop ist etwas für dich wenn du* intensivere Atemarbeit kennen lernen möchtest* dein Energiesystem hochfahren möchtest* dein Nervensystem in Ausgleich bringen möchtest* in Verbindung mit dir selbst kommen möchtest* deinen Gedankenstrom zur Ruhe bringen möchtest* mit Mantras praktizieren möchtest* in tiefe Meditation tauchen willst* dich abschließend von Klängen tragen lassen möchtest* ein Thema  loslassen/ vertiefen möchtest* die Pranayama-Praxis aus meinen Yogastunden kennst * Kapalabhati & Nadi Shodana kennst* Mula Bandha und Atemhalten praktizierst* Yogalehrerin bist und deine Praxis vertiefen möchtestAnmeldung bis 25. MaiMelde dich gleich HIER an\,
URL:https://www.finkin.at/veranstaltungen/intensives-pranayama-meditation/
ATTACH;FMTTYPE=image/jpeg:https://www.finkin.at/wp24/wp-content/uploads/2026/01/Pranayama.jpg
END:VEVENT
BEGIN:VEVENT
DTSTART;TZID=Europe/Vienna:20260619T180000
DTEND;TZID=Europe/Vienna:20260619T213000
DTSTAMP:20260423T105324
CREATED:20260103T100102Z
LAST-MODIFIED:20260317T140648Z
UID:1527-1781892000-1781904600@www.finkin.at
SUMMARY:Frauentempel zur Sonnenwende
DESCRIPTION:Ein Ritualabend zur Sommer Sonnenwende- das Leben in seiner Fülle leben. Freudvoll weiblich\, wild.Kräuterbüschel oder -Kränzebinden\, Feuerritual\, Begegnungs-& Berührungsübungen\, Tanz und gemeinsames Singen.Nimm Platz in unserem Kreis.Du kannst dich gleich HIER anmelden
URL:https://www.finkin.at/veranstaltungen/frauentempel-zur-sonnenwende/
LOCATION:Yogahaus mit-ananda\, Reikersdorf 11\, St. Peter am Hart\, OÖ\, 4963
ATTACH;FMTTYPE=image/jpeg:https://www.finkin.at/wp24/wp-content/uploads/2024/12/web_frausein_v2.jpg
END:VEVENT
BEGIN:VEVENT
DTSTART;TZID=Europe/Vienna:20260714T190000
DTEND;TZID=Europe/Vienna:20260714T220000
DTSTAMP:20260423T105324
CREATED:20260404T140058Z
LAST-MODIFIED:20260407T155622Z
UID:1597-1784055600-1784066400@www.finkin.at
SUMMARY:Lauter Leidenschaften- Literatur und sensual Bodywork mit Augenzwinken und Tiefgang
DESCRIPTION:Die Autorin Eva Damyanovic liest aus ihrem Buch „Lauter Leidenschaften“ und passend zu ihren Kurzgeschichten widmen wir uns dazwischen u.a. mit Körper- & Atemübungen\, einer Yonimeditation\, usw. dem energetischen Zentrum unserer Hingabefähigkeit\, Kreativität und Leidenschaft mit Gabi Fink.Ein Abend für Frauen mit Augenzwinkern und Tiefgang.Melde dich gleich HIER an.
URL:https://www.finkin.at/veranstaltungen/lauter-leidenschaften-literatur-und-sensual-bodywork-mit-augenzwinken/
ATTACH;FMTTYPE=image/jpeg:https://www.finkin.at/wp24/wp-content/uploads/2026/04/eva-d-lauter-leidenschaften_buch-cover_cutaway_web_707x1000.jpg
END:VEVENT
BEGIN:VEVENT
DTSTART;TZID=Europe/Vienna:20260731T160000
DTEND;TZID=Europe/Vienna:20260802T160000
DTSTAMP:20260423T105324
CREATED:20250519T203945Z
LAST-MODIFIED:20260406T104553Z
UID:1381-1785513600-1785686400@www.finkin.at
SUMMARY:Heal-Rise-Shine
DESCRIPTION:Frauentempel extended- SommerretreatDer Kreis als ein sicherer Ort für dich. Frauenkreise sind seit jeher Orte an denen pure Weiblichkeit gelebt wird. Come as you are- mit allem\, was du bist\, was du vermisst\, deinen Sicher-und Unsicherheiten\, deinen Träumen\,… du wirst respektvoll gehalten und genährt.Ein Begegnungs-und Berührungsraum für Frauen. Wir praktizieren (Heilungs)Rituale (mit Mama Cacao\, Blue Lotus\,..)\, Atemübungen\, Körperübungen\, (bewegte) Meditationen\, Selfcare-Praktiken\, Berührungsübungen\,  du kannst dich ganz fallen lassen und einfach SEIN. \n\n\n\nIch freue mich auf dich!!Early Bird Preis bei Anmeldung bis 5. April 390\,-Melde dich gleich HIER an
URL:https://www.finkin.at/veranstaltungen/heal-rise-shine/
LOCATION:Yogahaus mit-ananda\, Reikersdorf 11\, St. Peter am Hart\, OÖ\, 4963
ATTACH;FMTTYPE=image/jpeg:https://www.finkin.at/wp24/wp-content/uploads/2025/05/heal-rise-shine.jpg
ORGANIZER;CN="Gabi":MAILTO:praxis@finkin.at
END:VEVENT
BEGIN:VEVENT
DTSTART;TZID=Europe/Vienna:20260809T100000
DTEND;TZID=Europe/Vienna:20260809T130000
DTSTAMP:20260423T105324
CREATED:20260324T113410Z
LAST-MODIFIED:20260324T114104Z
UID:1560-1786269600-1786280400@www.finkin.at
SUMMARY:Matinee mit Soulparlez
DESCRIPTION:„where four female voices emerge into one“gentle\, yet powerful sounds run like a common thread within their compositions. they beautifully manage to create unique moods through combining their various influences such as jazz\, soul\, pop or french chansons. \n\n\n\nthe four women quickly noticed the strong bond they felt towards each other while first singing together at jam sessions and small concerts around vienna. their voices seemed to flow into each other naturally\,without losing what makes each one of them special. it was only a matter of time until they decided to form a group\, where they could combine their different styles and create a unique sound. soulparlez was born. \n\n\n\n​ \n\n\n\ntheir voices take the listener through endless airiness to a place far away\, but yet so near.telling stories of self-empowerment\, love or their perception of society\, soulparlez dare to speak their minds through their music. \n\n\n\nwww.soulparlez.com
URL:https://www.finkin.at/veranstaltungen/matinee-mit-soulparlez/
ATTACH;FMTTYPE=image/jpeg:https://www.finkin.at/wp24/wp-content/uploads/2026/03/soulparlez-zuschnitt-hp.jpg
END:VEVENT
BEGIN:VEVENT
DTSTART;TZID=Europe/Vienna:20261117T080000
DTEND;TZID=Europe/Vienna:20261125T170000
DTSTAMP:20260423T105324
CREATED:20260103T093013Z
LAST-MODIFIED:20260103T095738Z
UID:1521-1794902400-1795626000@www.finkin.at
SUMMARY:Frauenretreat in der Sahara- Pure You
DESCRIPTION:Eine Frauenreise in die marokkanische Sahara. Der Weg zu dir- zum WESENtlichenMarrakesch\, 4 Tage zu Fuß durch die Wüste\, Themen rund um Weiblichkeit\, Frau-Sein..gemeinsam mit Sonja Spießberger- Roth \n\n\n\nIn der außergewöhnlichen Naturkulisse der Wüste legst du mit jedem Schritt ab\, was dich beengt \, kommst deiner weiblichen Kraft näher\, verbindest dich mit deiner inneren Weisheit\, deiner Essenz.Dich führen lassen von deiner inneren Stimme- dich erinnern an dein wahres \, authentisches Sein. \n\n\n\nDie Stille wird zu deiner Begleiterin\, die Weite zu deinem Spiegel. \n\n\n\nLiebevoll begleitet und behütet von www.soulcaravane.de \n\n\n\nWir fließen gemeinsam im magischen weiblichen Feld und es erwartet dich u.a.: \n\n\n\n~Raum für dich~Zeit für Stille~Systemische Aufstellungsarbeit~Atemarbeit~Traumreisen~Cacaozeremonie & Klang \n\n\n\nSANDS OF SHE \n\n\n\nDas Retreat beginnt am 18.11. in Marrakesch mit dem gemeinsamen Abendessen und endet am 25.11. nach dem gemeinsamen Frühstück \n\n\n\n1900\,-Frühbucher bis 1. Juli 1750\,-all inclusiveDie Flüge sind extra zu buchen. \n\n\n\nVor und nach dem Aufenthalt in der Wüste ist es möglich jeweils eine weitere Nacht in Marrakesch dazuzubuchen.  \n\n\n\nInfos & Anmeldungen beiGabi\, +43 676 5942018& Sonja\, +43 676 3436762
URL:https://www.finkin.at/veranstaltungen/frauenretreat-in-der-sahara-pure-you/
ATTACH;FMTTYPE=image/jpeg:https://www.finkin.at/wp24/wp-content/uploads/2026/01/IMG-20251110-WA0229.jpg
END:VEVENT
END:VCALENDAR