BEGIN:VCALENDAR
VERSION:2.0
PRODID:-//Gabi Fink - ECPv6.15.18//NONSGML v1.0//EN
CALSCALE:GREGORIAN
METHOD:PUBLISH
X-WR-CALNAME:Gabi Fink
X-ORIGINAL-URL:https://www.finkin.at
X-WR-CALDESC:Veranstaltungen für Gabi Fink
REFRESH-INTERVAL;VALUE=DURATION:PT1H
X-Robots-Tag:noindex
X-PUBLISHED-TTL:PT1H
BEGIN:VTIMEZONE
TZID:Europe/Vienna
BEGIN:DAYLIGHT
TZOFFSETFROM:+0100
TZOFFSETTO:+0200
TZNAME:CEST
DTSTART:20250330T010000
END:DAYLIGHT
BEGIN:STANDARD
TZOFFSETFROM:+0200
TZOFFSETTO:+0100
TZNAME:CET
DTSTART:20251026T010000
END:STANDARD
BEGIN:DAYLIGHT
TZOFFSETFROM:+0100
TZOFFSETTO:+0200
TZNAME:CEST
DTSTART:20260329T010000
END:DAYLIGHT
BEGIN:STANDARD
TZOFFSETFROM:+0200
TZOFFSETTO:+0100
TZNAME:CET
DTSTART:20261025T010000
END:STANDARD
BEGIN:DAYLIGHT
TZOFFSETFROM:+0100
TZOFFSETTO:+0200
TZNAME:CEST
DTSTART:20270328T010000
END:DAYLIGHT
BEGIN:STANDARD
TZOFFSETFROM:+0200
TZOFFSETTO:+0100
TZNAME:CET
DTSTART:20271031T010000
END:STANDARD
END:VTIMEZONE
BEGIN:VEVENT
DTSTART;TZID=Europe/Vienna:20260113T090000
DTEND;TZID=Europe/Vienna:20260303T104500
DTSTAMP:20260421T170134
CREATED:20250123T115817Z
LAST-MODIFIED:20260406T102239Z
UID:1081-1768294800-1772534700@www.finkin.at
SUMMARY:Yogakurs vormittags sanft
DESCRIPTION:Eine sanfte Yogaeinheit u.a. mit Elementen aus der Yogatherapie.Du gönnst dir.. \n\n\n\nSanfte KörperübungenBelebende AtemübungenMeditationsübungen zur Beruhigung des Gedankenkarussells & deines NervensystemsTiefe Entspannung \n\n\n\n„Nicht der Mensch muss sich dem Yoga anpassen\, sondern der Yoga dem Menschen“\,T. Krishnamacharya \n\n\n\nDu musst nichts können- COME AS YOU ARE!! \n\n\n\nEs gibt nichts zu erreichen!Es gilt einzig und allein Du zu Sein \n\n\n\nYoga geht über die Matte hinaus \n\n\n\nIn meinem Kurs erfährst du Yoga als etwas \, das du in jedem Moment deines Lebens anwenden kannst.13.1.-3.3.\, 8 mal\, 142\,-
URL:https://www.finkin.at/veranstaltungen/yogakurs-vormittags-sanft/
CATEGORIES:Kurs
ATTACH;FMTTYPE=image/jpeg:https://www.finkin.at/wp24/wp-content/uploads/2025/01/IMG_5694.jpg
ORGANIZER;CN="Gabi":MAILTO:praxis@finkin.at
END:VEVENT
BEGIN:VEVENT
DTSTART;TZID=Europe/Vienna:20260113T191500
DTEND;TZID=Europe/Vienna:20260303T203000
DTSTAMP:20260421T170134
CREATED:20250123T120057Z
LAST-MODIFIED:20260406T102555Z
UID:1084-1768331700-1772569800@www.finkin.at
SUMMARY:Yogakurs für KennerInnen
DESCRIPTION:Eine Yogaeinheit für KennerInnen der klassischen Sonnengrüßen\, Nadi Shodanana & Kapalabhati. Begleitet von Mantras tauchst du tiefer in die Übungspraxis.
URL:https://www.finkin.at/veranstaltungen/yogakurs-fuer-kennerinnen/
ATTACH;FMTTYPE=image/jpeg:https://www.finkin.at/wp24/wp-content/uploads/2025/01/IMG_5647.jpg
ORGANIZER;CN="Gabi":MAILTO:praxis@finkin.at
END:VEVENT
END:VCALENDAR